BEGIN:VCALENDAR
VERSION:2.0
PRODID:-//LSRheumatology - ECPv6.15.20//NONSGML v1.0//EN
CALSCALE:GREGORIAN
METHOD:PUBLISH
X-ORIGINAL-URL:https://lsrheumatology.lopbeirut.org
X-WR-CALDESC:Events for LSRheumatology
REFRESH-INTERVAL;VALUE=DURATION:PT1H
X-Robots-Tag:noindex
X-PUBLISHED-TTL:PT1H
BEGIN:VTIMEZONE
TZID:UTC
BEGIN:STANDARD
TZOFFSETFROM:+0000
TZOFFSETTO:+0000
TZNAME:UTC
DTSTART:20230101T000000
END:STANDARD
END:VTIMEZONE
BEGIN:VEVENT
DTSTART;VALUE=DATE:20240314
DTEND;VALUE=DATE:20240317
DTSTAMP:20260425T025505
CREATED:20240123T180736Z
LAST-MODIFIED:20240123T180736Z
UID:1290-1710374400-1710633599@lsrheumatology.lopbeirut.org
SUMMARY:Systemic Sclerosis World Congress
DESCRIPTION:
URL:https://lsrheumatology.lopbeirut.org/event/systemic-sclerosis-world-congress/
LOCATION:Prague\, Czech Republic
END:VEVENT
END:VCALENDAR