BEGIN:VCALENDAR
VERSION:2.0
PRODID:-//LSRheumatology - ECPv6.15.20//NONSGML v1.0//EN
CALSCALE:GREGORIAN
METHOD:PUBLISH
X-WR-CALNAME:LSRheumatology
X-ORIGINAL-URL:https://lsrheumatology.lopbeirut.org
X-WR-CALDESC:Events for LSRheumatology
REFRESH-INTERVAL;VALUE=DURATION:PT1H
X-Robots-Tag:noindex
X-PUBLISHED-TTL:PT1H
BEGIN:VTIMEZONE
TZID:UTC
BEGIN:STANDARD
TZOFFSETFROM:+0000
TZOFFSETTO:+0000
TZNAME:UTC
DTSTART:20240101T000000
END:STANDARD
END:VTIMEZONE
BEGIN:VEVENT
DTSTART;VALUE=DATE:20251119
DTEND;VALUE=DATE:20251122
DTSTAMP:20260423T224828
CREATED:20250823T114501Z
LAST-MODIFIED:20250823T114545Z
UID:1366-1763510400-1763769599@lsrheumatology.lopbeirut.org
SUMMARY:Levant Rheumatology Summit 2025
DESCRIPTION:
URL:https://lsrheumatology.lopbeirut.org/event/levant-rheumatology-summit-2025/
LOCATION:Amman\, Amman
END:VEVENT
END:VCALENDAR