BEGIN:VCALENDAR
VERSION:2.0
PRODID:-//LSRheumatology - ECPv6.15.20//NONSGML v1.0//EN
CALSCALE:GREGORIAN
METHOD:PUBLISH
X-WR-CALNAME:LSRheumatology
X-ORIGINAL-URL:https://lsrheumatology.lopbeirut.org
X-WR-CALDESC:Events for LSRheumatology
REFRESH-INTERVAL;VALUE=DURATION:PT1H
X-Robots-Tag:noindex
X-PUBLISHED-TTL:PT1H
BEGIN:VTIMEZONE
TZID:UTC
BEGIN:STANDARD
TZOFFSETFROM:+0000
TZOFFSETTO:+0000
TZNAME:UTC
DTSTART:20250101T000000
END:STANDARD
END:VTIMEZONE
BEGIN:VEVENT
DTSTART;VALUE=DATE:20260416
DTEND;VALUE=DATE:20260420
DTSTAMP:20260423T160537
CREATED:20250823T115221Z
LAST-MODIFIED:20250823T115235Z
UID:1379-1776297600-1776643199@lsrheumatology.lopbeirut.org
SUMMARY:the WCO-IOF-ESCEO 2026 Congress
DESCRIPTION:
URL:https://lsrheumatology.lopbeirut.org/event/the-wco-iof-esceo-2026-congress/
LOCATION:Prague\, Czech Republic
END:VEVENT
END:VCALENDAR