BEGIN:VCALENDAR
VERSION:2.0
PRODID:-//LSRheumatology - ECPv6.15.20//NONSGML v1.0//EN
CALSCALE:GREGORIAN
METHOD:PUBLISH
X-WR-CALNAME:LSRheumatology
X-ORIGINAL-URL:https://lsrheumatology.lopbeirut.org
X-WR-CALDESC:Events for LSRheumatology
REFRESH-INTERVAL;VALUE=DURATION:PT1H
X-Robots-Tag:noindex
X-PUBLISHED-TTL:PT1H
BEGIN:VTIMEZONE
TZID:UTC
BEGIN:STANDARD
TZOFFSETFROM:+0000
TZOFFSETTO:+0000
TZNAME:UTC
DTSTART:20190101T000000
END:STANDARD
END:VTIMEZONE
BEGIN:VTIMEZONE
TZID:Europe/Paris
BEGIN:DAYLIGHT
TZOFFSETFROM:+0100
TZOFFSETTO:+0200
TZNAME:CEST
DTSTART:20230326T010000
END:DAYLIGHT
BEGIN:STANDARD
TZOFFSETFROM:+0200
TZOFFSETTO:+0100
TZNAME:CET
DTSTART:20231029T010000
END:STANDARD
BEGIN:DAYLIGHT
TZOFFSETFROM:+0100
TZOFFSETTO:+0200
TZNAME:CEST
DTSTART:20240331T010000
END:DAYLIGHT
BEGIN:STANDARD
TZOFFSETFROM:+0200
TZOFFSETTO:+0100
TZNAME:CET
DTSTART:20241027T010000
END:STANDARD
BEGIN:DAYLIGHT
TZOFFSETFROM:+0100
TZOFFSETTO:+0200
TZNAME:CEST
DTSTART:20250330T010000
END:DAYLIGHT
BEGIN:STANDARD
TZOFFSETFROM:+0200
TZOFFSETTO:+0100
TZNAME:CET
DTSTART:20251026T010000
END:STANDARD
END:VTIMEZONE
BEGIN:VTIMEZONE
TZID:Europe/Helsinki
BEGIN:DAYLIGHT
TZOFFSETFROM:+0200
TZOFFSETTO:+0300
TZNAME:EEST
DTSTART:20200329T010000
END:DAYLIGHT
BEGIN:STANDARD
TZOFFSETFROM:+0300
TZOFFSETTO:+0200
TZNAME:EET
DTSTART:20201025T010000
END:STANDARD
BEGIN:DAYLIGHT
TZOFFSETFROM:+0200
TZOFFSETTO:+0300
TZNAME:EEST
DTSTART:20210328T010000
END:DAYLIGHT
BEGIN:STANDARD
TZOFFSETFROM:+0300
TZOFFSETTO:+0200
TZNAME:EET
DTSTART:20211031T010000
END:STANDARD
BEGIN:DAYLIGHT
TZOFFSETFROM:+0200
TZOFFSETTO:+0300
TZNAME:EEST
DTSTART:20220327T010000
END:DAYLIGHT
BEGIN:STANDARD
TZOFFSETFROM:+0300
TZOFFSETTO:+0200
TZNAME:EET
DTSTART:20221030T010000
END:STANDARD
END:VTIMEZONE
BEGIN:VEVENT
DTSTART;VALUE=DATE:20251024
DTEND;VALUE=DATE:20251030
DTSTAMP:20260424T001644
CREATED:20250823T114239Z
LAST-MODIFIED:20250823T114239Z
UID:1363-1761264000-1761782399@lsrheumatology.lopbeirut.org
SUMMARY:ACR 2025 Convergence
DESCRIPTION:
URL:https://lsrheumatology.lopbeirut.org/event/acr-2025-convergence/
LOCATION:Chicago\, Chicago\, Chicago
END:VEVENT
BEGIN:VEVENT
DTSTART;VALUE=DATE:20251011
DTEND;VALUE=DATE:20251012
DTSTAMP:20260424T001644
CREATED:20250823T114124Z
LAST-MODIFIED:20250823T114124Z
UID:1361-1760140800-1760227199@lsrheumatology.lopbeirut.org
SUMMARY:LSR 2025 Congress
DESCRIPTION:
URL:https://lsrheumatology.lopbeirut.org/event/lsr-2025-congress/
LOCATION:Beirut\, Lebanon
ATTACH;FMTTYPE=image/jpeg:https://lsrheumatology.lopbeirut.org/wp-content/uploads/2025/08/LSR-COVER-3-2.jpeg
END:VEVENT
BEGIN:VEVENT
DTSTART;VALUE=DATE:20250910
DTEND;VALUE=DATE:20250911
DTSTAMP:20260424T001644
CREATED:20250823T113923Z
LAST-MODIFIED:20250823T113923Z
UID:1358-1757462400-1757548799@lsrheumatology.lopbeirut.org
SUMMARY:September LSR Monthly Meeting
DESCRIPTION:
URL:https://lsrheumatology.lopbeirut.org/event/september-lsr-monthly-meeting/
LOCATION:LOP-Beirut\, Beirut\, Beirut\, Lebanon
END:VEVENT
BEGIN:VEVENT
DTSTART;VALUE=DATE:20250903
DTEND;VALUE=DATE:20250908
DTSTAMP:20260424T001644
CREATED:20250823T113723Z
LAST-MODIFIED:20250823T113723Z
UID:1355-1756857600-1757289599@lsrheumatology.lopbeirut.org
SUMMARY:APLAR 2025 congress
DESCRIPTION:
URL:https://lsrheumatology.lopbeirut.org/event/aplar-2025-congress/
LOCATION:Fukuoka\, Fukuoka
END:VEVENT
BEGIN:VEVENT
DTSTART;VALUE=DATE:20241208
DTEND;VALUE=DATE:20241211
DTSTAMP:20260424T001644
CREATED:20240123T180208Z
LAST-MODIFIED:20240123T180208Z
UID:1283-1733616000-1733875199@lsrheumatology.lopbeirut.org
SUMMARY:Congrès Annuel de la Société Française de Rhumatologie
DESCRIPTION:
URL:https://lsrheumatology.lopbeirut.org/event/congres-annuel-de-la-societe-francaise-de-rhumatologie/
LOCATION:Paris\, France
END:VEVENT
BEGIN:VEVENT
DTSTART;VALUE=DATE:20241114
DTEND;VALUE=DATE:20241120
DTSTAMP:20260424T001644
CREATED:20240123T175912Z
LAST-MODIFIED:20240123T175912Z
UID:1280-1731542400-1732060799@lsrheumatology.lopbeirut.org
SUMMARY:ACR Annual Meeting
DESCRIPTION:
URL:https://lsrheumatology.lopbeirut.org/event/acr-annual-meeting/
LOCATION:Washington\, United States
END:VEVENT
BEGIN:VEVENT
DTSTART;VALUE=DATE:20240927
DTEND;VALUE=DATE:20240929
DTSTAMP:20260424T001644
CREATED:20240123T181053Z
LAST-MODIFIED:20240123T181053Z
UID:1294-1727395200-1727567999@lsrheumatology.lopbeirut.org
SUMMARY:LSR ANNUAL MEETING & LEVANT SUMMIT
DESCRIPTION:
URL:https://lsrheumatology.lopbeirut.org/event/lsr-annual-meeting-levant-summit/
LOCATION:Beirut\, Lebanon
END:VEVENT
BEGIN:VEVENT
DTSTART;VALUE=DATE:20240612
DTEND;VALUE=DATE:20240616
DTSTAMP:20260424T001644
CREATED:20240123T175654Z
LAST-MODIFIED:20240123T175654Z
UID:1277-1718150400-1718495999@lsrheumatology.lopbeirut.org
SUMMARY:EULAR Congress
DESCRIPTION:
URL:https://lsrheumatology.lopbeirut.org/event/eular-congress/
LOCATION:Vienna\, Vienna
END:VEVENT
BEGIN:VEVENT
DTSTART;VALUE=DATE:20240418
DTEND;VALUE=DATE:20240422
DTSTAMP:20260424T001644
CREATED:20240125T072841Z
LAST-MODIFIED:20240125T072841Z
UID:1300-1713398400-1713743999@lsrheumatology.lopbeirut.org
SUMMARY:OARSI World Congress on Osteoarthritis
DESCRIPTION:
URL:https://lsrheumatology.lopbeirut.org/event/oarsi-world-congress-on-osteoarthritis/
LOCATION:Vienna\, Vienna
END:VEVENT
BEGIN:VEVENT
DTSTART;VALUE=DATE:20240411
DTEND;VALUE=DATE:20240415
DTSTAMP:20260424T001644
CREATED:20240123T180359Z
LAST-MODIFIED:20240123T180602Z
UID:1285-1712793600-1713139199@lsrheumatology.lopbeirut.org
SUMMARY:World Congress on Osteoporosis Osteoarthritis and Musculoskeletal Diseases
DESCRIPTION:
URL:https://lsrheumatology.lopbeirut.org/event/1285/
LOCATION:London\, United Kingdom
END:VEVENT
BEGIN:VEVENT
DTSTART;VALUE=DATE:20240321
DTEND;VALUE=DATE:20240323
DTSTAMP:20260424T001644
CREATED:20240123T175345Z
LAST-MODIFIED:20240123T175345Z
UID:1274-1710979200-1711151999@lsrheumatology.lopbeirut.org
SUMMARY:68èmes Journées Annuelles du Centre VIGGO PETERSEN
DESCRIPTION:
URL:https://lsrheumatology.lopbeirut.org/event/68emes-journees-annuelles-du-centre-viggo-petersen/
LOCATION:Paris\, France
END:VEVENT
BEGIN:VEVENT
DTSTART;VALUE=DATE:20240314
DTEND;VALUE=DATE:20240317
DTSTAMP:20260424T001644
CREATED:20240123T180736Z
LAST-MODIFIED:20240123T180736Z
UID:1290-1710374400-1710633599@lsrheumatology.lopbeirut.org
SUMMARY:Systemic Sclerosis World Congress
DESCRIPTION:
URL:https://lsrheumatology.lopbeirut.org/event/systemic-sclerosis-world-congress/
LOCATION:Prague\, Czech Republic
END:VEVENT
BEGIN:VEVENT
DTSTART;VALUE=DATE:20240301
DTEND;VALUE=DATE:20240303
DTSTAMP:20260424T001644
CREATED:20240123T175127Z
LAST-MODIFIED:20240123T175127Z
UID:1270-1709251200-1709423999@lsrheumatology.lopbeirut.org
SUMMARY:Rheumatology Europe Update 2024
DESCRIPTION:  \n 
URL:https://lsrheumatology.lopbeirut.org/event/rheumatology-europe-update-2024/
LOCATION:Amsterdam\, Netherlands
END:VEVENT
BEGIN:VEVENT
DTSTART;VALUE=DATE:20221211
DTEND;VALUE=DATE:20221214
DTSTAMP:20260424T001644
CREATED:20221004T202632Z
LAST-MODIFIED:20221004T202727Z
UID:1225-1670716800-1670975999@lsrheumatology.lopbeirut.org
SUMMARY:Congrès de la Société Française de Rhumatologie - Paris 2022
DESCRIPTION:
URL:https://lsrheumatology.lopbeirut.org/event/congres-de-la-societe-francaise-de-rhumatologie-paris-2022/
END:VEVENT
BEGIN:VEVENT
DTSTART;VALUE=DATE:20221110
DTEND;VALUE=DATE:20221115
DTSTAMP:20260424T001644
CREATED:20221004T202442Z
LAST-MODIFIED:20221004T202442Z
UID:1223-1668038400-1668470399@lsrheumatology.lopbeirut.org
SUMMARY:ACR Convergence 2022 - Philadelphia
DESCRIPTION:
URL:https://lsrheumatology.lopbeirut.org/event/acr-convergence-2022-philadelphia/
END:VEVENT
BEGIN:VEVENT
DTSTART;VALUE=DATE:20221014
DTEND;VALUE=DATE:20221016
DTSTAMP:20260424T001644
CREATED:20221004T201738Z
LAST-MODIFIED:20221004T201738Z
UID:1218-1665705600-1665878399@lsrheumatology.lopbeirut.org
SUMMARY:LSR 2022 Annual Congress
DESCRIPTION:
URL:https://lsrheumatology.lopbeirut.org/event/lsr-2022-annual-congress/
CATEGORIES:Events
END:VEVENT
BEGIN:VEVENT
DTSTART;VALUE=DATE:20211212
DTEND;VALUE=DATE:20211215
DTSTAMP:20260424T001644
CREATED:20210330T161544Z
LAST-MODIFIED:20210330T161917Z
UID:1100-1639267200-1639526399@lsrheumatology.lopbeirut.org
SUMMARY:SFR 2021
DESCRIPTION:https://congres.la-rhumatologie.com/
URL:https://lsrheumatology.lopbeirut.org/event/sfr-2021/
LOCATION:Virtually Online
CATEGORIES:Events
END:VEVENT
BEGIN:VEVENT
DTSTART;VALUE=DATE:20211101
DTEND;VALUE=DATE:20211111
DTSTAMP:20260424T001644
CREATED:20210527T174417Z
LAST-MODIFIED:20210527T174552Z
UID:1115-1635724800-1636588799@lsrheumatology.lopbeirut.org
SUMMARY:ACR Convergence 2021
DESCRIPTION:ACR Convergence 2021 \n\nDates: 1-10 November 2021\nPlace: Virtually online\n\nhttps://www.rheumatology.org/Annual-Meeting/Program
URL:https://lsrheumatology.lopbeirut.org/event/acr-convergence-2021/
LOCATION:Virtually Online
CATEGORIES:Events
END:VEVENT
BEGIN:VEVENT
DTSTART;TZID=UTC:20210922T190000
DTEND;TZID=UTC:20210922T200000
DTSTAMP:20260424T001644
CREATED:20210922T074520Z
LAST-MODIFIED:20210922T074520Z
UID:1182-1632337200-1632340800@lsrheumatology.lopbeirut.org
SUMMARY:Questions & Answers on the Practical Management of JAK inhibitors in Rheumatoid Arthritis
DESCRIPTION:
URL:https://lsrheumatology.lopbeirut.org/event/questions-answers-on-the-practical-management-of-jak-inhibitors-in-rheumatoid-arthritis/
END:VEVENT
BEGIN:VEVENT
DTSTART;TZID=UTC:20210728T202500
DTEND;TZID=UTC:20210728T222500
DTSTAMP:20260424T001644
CREATED:20210726T164909Z
LAST-MODIFIED:20210726T164909Z
UID:1170-1627503900-1627511100@lsrheumatology.lopbeirut.org
SUMMARY:Update on Vasculitis
DESCRIPTION:
URL:https://lsrheumatology.lopbeirut.org/event/update-on-vasculitis/
LOCATION:Virtually Online
CATEGORIES:Events
END:VEVENT
BEGIN:VEVENT
DTSTART;TZID=UTC:20210727T190000
DTEND;TZID=UTC:20210727T210000
DTSTAMP:20260424T001644
CREATED:20210726T164755Z
LAST-MODIFIED:20210726T164935Z
UID:1168-1627412400-1627419600@lsrheumatology.lopbeirut.org
SUMMARY:Relief MRI Workshop
DESCRIPTION:
URL:https://lsrheumatology.lopbeirut.org/event/relief-mri-workshop/
LOCATION:Virtually Online
CATEGORIES:Events
END:VEVENT
BEGIN:VEVENT
DTSTART;TZID=UTC:20210708T193000
DTEND;TZID=UTC:20210708T193000
DTSTAMP:20260424T001644
CREATED:20210629T181328Z
LAST-MODIFIED:20210629T181328Z
UID:1142-1625772600-1625772600@lsrheumatology.lopbeirut.org
SUMMARY:
DESCRIPTION:Advances in the Management of Psoriatic Arthritis: The Role of IL23 Pathway \n \nWelcome! You are invited to join a webinar: LSR 2021 Educational Meetings – Advances in the Management of Psoriatic Arthritis: The Role of IL23 Pathway. \nAfter registering\, you will receive a confirmation email about joining the webinar.
URL:https://lsrheumatology.lopbeirut.org/event/1142/
CATEGORIES:Events
END:VEVENT
BEGIN:VEVENT
DTSTART;VALUE=DATE:20210701
DTEND;VALUE=DATE:20210703
DTSTAMP:20260424T001644
CREATED:20210330T191913Z
LAST-MODIFIED:20210330T192008Z
UID:1102-1625097600-1625270399@lsrheumatology.lopbeirut.org
SUMMARY:Ten Topics in Rheumatology London
DESCRIPTION:https://www.eventbrite.co.uk/e/ten-topics-in-rheumatology-2021-tickets-133229225199
URL:https://lsrheumatology.lopbeirut.org/event/ten-topics-in-rheumatology-london/
LOCATION:Virtually Online
END:VEVENT
BEGIN:VEVENT
DTSTART;TZID=UTC:20210617T193000
DTEND;TZID=UTC:20210617T210000
DTSTAMP:20260424T001644
CREATED:20210606T180514Z
LAST-MODIFIED:20210606T180514Z
UID:1129-1623958200-1623963600@lsrheumatology.lopbeirut.org
SUMMARY:Unlocking opportunities in rheumatic diseases
DESCRIPTION:
URL:https://lsrheumatology.lopbeirut.org/event/unlocking-opportunities-in-rheumatic-diseases/
LOCATION:onlie
END:VEVENT
BEGIN:VEVENT
DTSTART;VALUE=DATE:20210602
DTEND;VALUE=DATE:20210606
DTSTAMP:20260424T001644
CREATED:20210330T161320Z
LAST-MODIFIED:20210330T161827Z
UID:1097-1622592000-1622937599@lsrheumatology.lopbeirut.org
SUMMARY:EULAR 2021
DESCRIPTION:https://congress.eular.org/about.cfm
URL:https://lsrheumatology.lopbeirut.org/event/eular-2021/
LOCATION:Virtually Online
CATEGORIES:Events
END:VEVENT
BEGIN:VEVENT
DTSTART;VALUE=DATE:20210602
DTEND;VALUE=DATE:20210606
DTSTAMP:20260424T001644
CREATED:20201124T094644Z
LAST-MODIFIED:20201124T094644Z
UID:1026-1622592000-1622937599@lsrheumatology.lopbeirut.org
SUMMARY:EULAR European Congress of Rheumatology
DESCRIPTION:EULAR European Congress of Rheumatology \n\nEULAR 2021 – Annual European Congress of Rheumatology
URL:https://lsrheumatology.lopbeirut.org/event/eular-european-congress-of-rheumatology/
END:VEVENT
BEGIN:VEVENT
DTSTART;TZID=Europe/Helsinki:20210601T200000
DTEND;TZID=Europe/Helsinki:20210601T210000
DTSTAMP:20260424T001644
CREATED:20210527T174018Z
LAST-MODIFIED:20210527T174018Z
UID:1113-1622577600-1622581200@lsrheumatology.lopbeirut.org
SUMMARY:A 360 View on Gout and Hyperuricemia
DESCRIPTION:A 360 View on Gout and Hyperuricemia \n \nWebinar Registration – Zoom
URL:https://lsrheumatology.lopbeirut.org/event/a-360-view-on-gout-and-hyperuricemia/
CATEGORIES:Events
END:VEVENT
BEGIN:VEVENT
DTSTART;TZID=UTC:20210401T200000
DTEND;TZID=UTC:20210401T213000
DTSTAMP:20260424T001644
CREATED:20210330T155450Z
LAST-MODIFIED:20210330T160014Z
UID:1088-1617307200-1617312600@lsrheumatology.lopbeirut.org
SUMMARY:LSR 2021 Educational Meeting: Familial Mediterranean Fever
DESCRIPTION:https://zoom.us/webinar/register/WN_ICxKbPFqRYab_B2SlNkZ7w
URL:https://lsrheumatology.lopbeirut.org/event/lsr-2021-educational-meeting-familial-mediterranean-fever/
LOCATION:Virtually Online
CATEGORIES:Events
END:VEVENT
BEGIN:VEVENT
DTSTART;VALUE=DATE:20210303
DTEND;VALUE=DATE:20210307
DTSTAMP:20260424T001644
CREATED:20201118T203324Z
LAST-MODIFIED:20201118T203409Z
UID:1006-1614729600-1615075199@lsrheumatology.lopbeirut.org
SUMMARY:ArLAR Congress
DESCRIPTION:ArLAR Congress – Jordan\, 3-6 March 2021\nhttps://www.arabrheumatology.org/arlarjordan2020
URL:https://lsrheumatology.lopbeirut.org/event/arlar-congress/
CATEGORIES:Events
END:VEVENT
BEGIN:VEVENT
DTSTART;VALUE=DATE:20201213
DTEND;VALUE=DATE:20201217
DTSTAMP:20260424T001644
CREATED:20201124T094509Z
LAST-MODIFIED:20201124T094716Z
UID:1023-1607817600-1608163199@lsrheumatology.lopbeirut.org
SUMMARY:Le 33e congrès français de Rhumatologie\, édition digital
DESCRIPTION:Le 33e congrès français de Rhumatologie\, édition digital \nLe 33e congrès français de Rhumatologie\, édition digitale | La Société Française de Rhumatologie
URL:https://lsrheumatology.lopbeirut.org/event/le-33e-congres-francais-de-rhumatologie-edition-digital/
ATTACH;FMTTYPE=image/png:https://lsrheumatology.lopbeirut.org/wp-content/uploads/2020/11/thumbnail_image003.png
END:VEVENT
END:VCALENDAR