BEGIN:VCALENDAR
VERSION:2.0
PRODID:-//LSRheumatology - ECPv6.15.20//NONSGML v1.0//EN
CALSCALE:GREGORIAN
METHOD:PUBLISH
X-WR-CALNAME:LSRheumatology
X-ORIGINAL-URL:https://lsrheumatology.lopbeirut.org
X-WR-CALDESC:Events for LSRheumatology
REFRESH-INTERVAL;VALUE=DURATION:PT1H
X-Robots-Tag:noindex
X-PUBLISHED-TTL:PT1H
BEGIN:VTIMEZONE
TZID:UTC
BEGIN:STANDARD
TZOFFSETFROM:+0000
TZOFFSETTO:+0000
TZNAME:UTC
DTSTART:20190101T000000
END:STANDARD
END:VTIMEZONE
BEGIN:VEVENT
DTSTART;VALUE=DATE:20201213
DTEND;VALUE=DATE:20201217
DTSTAMP:20260423T184639
CREATED:20201124T094509Z
LAST-MODIFIED:20201124T094716Z
UID:1023-1607817600-1608163199@lsrheumatology.lopbeirut.org
SUMMARY:Le 33e congrès français de Rhumatologie\, édition digital
DESCRIPTION:Le 33e congrès français de Rhumatologie\, édition digital \nLe 33e congrès français de Rhumatologie\, édition digitale | La Société Française de Rhumatologie
URL:https://lsrheumatology.lopbeirut.org/event/le-33e-congres-francais-de-rhumatologie-edition-digital/
ATTACH;FMTTYPE=image/png:https://lsrheumatology.lopbeirut.org/wp-content/uploads/2020/11/thumbnail_image003.png
END:VEVENT
BEGIN:VEVENT
DTSTART;VALUE=DATE:20201204
DTEND;VALUE=DATE:20201206
DTSTAMP:20260423T184639
CREATED:20201118T202908Z
LAST-MODIFIED:20201118T203641Z
UID:1004-1607040000-1607212799@lsrheumatology.lopbeirut.org
SUMMARY:Annual Meeting 2020
DESCRIPTION:The next LSR annual meeting will be held virtually on the 4th and 5th of December 2020. The theme of the meeting will be “The Year 2020 in Review”. \nFor registration : https://us02web.zoom.us/webinar/register/WN_86FVhBGOTYWTP0xM2aJqIg
URL:https://lsrheumatology.lopbeirut.org/event/annual-meeting-2020/
LOCATION:Virtually Online
CATEGORIES:Events
ATTACH;FMTTYPE=image/jpeg:https://lsrheumatology.lopbeirut.org/wp-content/uploads/2020/11/Photo-16-11-2020-1-10-08-PM.jpg
END:VEVENT
BEGIN:VEVENT
DTSTART;VALUE=DATE:20200902
DTEND;VALUE=DATE:20200906
DTSTAMP:20260423T184639
CREATED:20201118T202149Z
LAST-MODIFIED:20201118T202350Z
UID:1001-1599004800-1599350399@lsrheumatology.lopbeirut.org
SUMMARY:Scandinavian Congress of Rheumatology
DESCRIPTION:Scandinavian Congress of Rheumatology – Norway\, 2-5 September 2020\nhttps://scr2020.no/
URL:https://lsrheumatology.lopbeirut.org/event/scandinavian-congress-of-rheumatology/
CATEGORIES:Events
END:VEVENT
END:VCALENDAR