BEGIN:VCALENDAR
VERSION:2.0
PRODID:-//LSRheumatology - ECPv6.15.20//NONSGML v1.0//EN
CALSCALE:GREGORIAN
METHOD:PUBLISH
X-ORIGINAL-URL:https://lsrheumatology.lopbeirut.org
X-WR-CALDESC:Events for LSRheumatology
REFRESH-INTERVAL;VALUE=DURATION:PT1H
X-Robots-Tag:noindex
X-PUBLISHED-TTL:PT1H
BEGIN:VTIMEZONE
TZID:UTC
BEGIN:STANDARD
TZOFFSETFROM:+0000
TZOFFSETTO:+0000
TZNAME:UTC
DTSTART:20210101T000000
END:STANDARD
END:VTIMEZONE
BEGIN:VEVENT
DTSTART;VALUE=DATE:20221211
DTEND;VALUE=DATE:20221214
DTSTAMP:20260425T223602
CREATED:20221004T202632Z
LAST-MODIFIED:20221004T202727Z
UID:1225-1670716800-1670975999@lsrheumatology.lopbeirut.org
SUMMARY:Congrès de la Société Française de Rhumatologie - Paris 2022
DESCRIPTION:
URL:https://lsrheumatology.lopbeirut.org/event/congres-de-la-societe-francaise-de-rhumatologie-paris-2022/
END:VEVENT
END:VCALENDAR