BEGIN:VCALENDAR
VERSION:2.0
PRODID:-//LSRheumatology - ECPv6.15.20//NONSGML v1.0//EN
CALSCALE:GREGORIAN
METHOD:PUBLISH
X-WR-CALNAME:LSRheumatology
X-ORIGINAL-URL:https://lsrheumatology.lopbeirut.org
X-WR-CALDESC:Events for LSRheumatology
REFRESH-INTERVAL;VALUE=DURATION:PT1H
X-Robots-Tag:noindex
X-PUBLISHED-TTL:PT1H
BEGIN:VTIMEZONE
TZID:UTC
BEGIN:STANDARD
TZOFFSETFROM:+0000
TZOFFSETTO:+0000
TZNAME:UTC
DTSTART:20240101T000000
END:STANDARD
END:VTIMEZONE
BEGIN:VEVENT
DTSTART;VALUE=DATE:20251201
DTEND;VALUE=DATE:20251205
DTSTAMP:20260423T200413
CREATED:20250823T114936Z
LAST-MODIFIED:20250823T114936Z
UID:1374-1764547200-1764892799@lsrheumatology.lopbeirut.org
SUMMARY:British Society for Immunology 2025 Congress
DESCRIPTION:
URL:https://lsrheumatology.lopbeirut.org/event/british-society-for-immunology-2025-congress/
LOCATION:Liverpool\, Liverpool
END:VEVENT
BEGIN:VEVENT
DTSTART;VALUE=DATE:20251214
DTEND;VALUE=DATE:20251217
DTSTAMP:20260423T200413
CREATED:20250823T115042Z
LAST-MODIFIED:20250912T174533Z
UID:1377-1765670400-1765929599@lsrheumatology.lopbeirut.org
SUMMARY:SFR 2025 Annual Congress
DESCRIPTION:
URL:https://lsrheumatology.lopbeirut.org/event/sfr-2025-annual-congress/
LOCATION:Paris\, France
END:VEVENT
END:VCALENDAR